BEGIN:VCALENDAR
VERSION:2.0
PRODID:icalendar-ruby
CALSCALE:GREGORIAN
X-WR-TIMEZONE:Europe/Helsinki
BEGIN:VTIMEZONE
TZID:Europe/Helsinki
BEGIN:DAYLIGHT
DTSTART:20260329T040000
TZOFFSETFROM:+0200
TZOFFSETTO:+0300
RRULE:FREQ=YEARLY;BYDAY=-1SU;BYMONTH=3
TZNAME:EEST
END:DAYLIGHT
BEGIN:STANDARD
DTSTART:20261025T030000
TZOFFSETFROM:+0300
TZOFFSETTO:+0200
RRULE:FREQ=YEARLY;BYDAY=-1SU;BYMONTH=10
TZNAME:EET
END:STANDARD
END:VTIMEZONE
BEGIN:VEVENT
DTSTAMP:20260424T175546
UID:tapanilanera.myclub.fi-10641780
DTSTART;TZID=Europe/Helsinki:20260509T114500
DTEND;TZID=Europe/Helsinki:20260509T124500
DESCRIPTION:K-pop tiiviskurssi - Hinta: 8 € / tunti\nOpettajana: Silja Sa
 visalo\n \nK-pop (Korean pop) on Etelä-Koreasta lähtöisin oleva vauhdik
 as ja energinen tanssityyli. K-pop-koreografioissa yhdistyvät useat tanss
 ityylit kuten dance-poppi\, hip hop ja R&B.\nTunneilla tanssitaan K-POP ar
 tistien biiseihin ja heidän alkuperäisiin näyttäviin ja vauhdikkaisiin
  koreografioihin. \n \nTervetuloa mukaan fiilistelemään!\n\nTapanilan Er
 ä ry ei ole vakuuttanut osallistujia.\n\nPidätetään oikeus muutoksiin.
 \n\nhttps://tapanilanera.myclub.fi/flow/events/10641780
LOCATION:Tapanilan Urheilukeskus/LS 2\, Erätie 3\, 00730 Helsinki
SEQUENCE:0
SUMMARY:Tanssitunnit: La klo 11.45-12.45 K-pop 10-14 v.
URL;VALUE=URI:https://tapanilanera.myclub.fi/flow/events/10641780
END:VEVENT
END:VCALENDAR
