BEGIN:VCALENDAR
VERSION:2.0
PRODID:icalendar-ruby
CALSCALE:GREGORIAN
X-WR-TIMEZONE:Europe/Helsinki
BEGIN:VTIMEZONE
TZID:Europe/Helsinki
BEGIN:DAYLIGHT
DTSTART:20260329T040000
TZOFFSETFROM:+0200
TZOFFSETTO:+0300
RRULE:FREQ=YEARLY;BYDAY=-1SU;BYMONTH=3
TZNAME:EEST
END:DAYLIGHT
BEGIN:STANDARD
DTSTART:20261025T030000
TZOFFSETFROM:+0300
TZOFFSETTO:+0200
RRULE:FREQ=YEARLY;BYDAY=-1SU;BYMONTH=10
TZNAME:EET
END:STANDARD
END:VTIMEZONE
BEGIN:VEVENT
DTSTAMP:20260420T153935
UID:tapanilanera.myclub.fi-10569880
DTSTART;TZID=Europe/Helsinki:20260502T090000
DTEND;TZID=Europe/Helsinki:20260502T090000
DESCRIPTION:Voimassa 2.-31.5.2026 ryhmäliikunta tunneille. Hinta 80 euroa 
 + Tapanilan Erä ry:n vuoden 2026 jäsenmaksu 14 e\nLiikkuminen Tapanilan 
 Erä ry:n jumppatunneilla edellyttää Tapanilan Erä ry:n jäsenyyttä.\n
 \nhttps://tapanilanera.myclub.fi/flow/events/10569880
LOCATION:Tapanilan Urheilukeskus / Erätalo\, 
SEQUENCE:0
SUMMARY:Anytimekortti: Anytimekortti toukokuu 2026
URL;VALUE=URI:https://tapanilanera.myclub.fi/flow/events/10569880
END:VEVENT
END:VCALENDAR
