BEGIN:VCALENDAR
VERSION:2.0
PRODID:icalendar-ruby
CALSCALE:GREGORIAN
X-WR-TIMEZONE:Europe/Helsinki
BEGIN:VTIMEZONE
TZID:Europe/Helsinki
BEGIN:DAYLIGHT
DTSTART:20260329T040000
TZOFFSETFROM:+0200
TZOFFSETTO:+0300
RRULE:FREQ=YEARLY;BYDAY=-1SU;BYMONTH=3
TZNAME:EEST
END:DAYLIGHT
BEGIN:STANDARD
DTSTART:20261025T030000
TZOFFSETFROM:+0300
TZOFFSETTO:+0200
RRULE:FREQ=YEARLY;BYDAY=-1SU;BYMONTH=10
TZNAME:EET
END:STANDARD
END:VTIMEZONE
BEGIN:VEVENT
DTSTAMP:20260420T153243
UID:tapanilanera.myclub.fi-10569745
DTSTART;TZID=Europe/Helsinki:20260504T090000
DTEND;TZID=Europe/Helsinki:20260504T090000
DESCRIPTION:Eläkeikäisten anytime voimassa eläkeikäisten tunneille 4.5.
 -18.6. & 17.-28.8.2026 Hinta 110 euroa + Tapanilan Erä ry:n vuoden 2026 j
 äsenmaksu 14 e\nLiikkuminen Tapanilan Erä ry:n jumppatunneilla edellytt
 ää Tapanilan Erä ry:n jäsenyyttä.\n\nMikäli olet jo maksanut vuoden 
 2026 jäsenmaksun\, MyClub ei lisää jäsenmaksua laskuusi.\n\n\nhttps://
 tapanilanera.myclub.fi/flow/events/10569745
LOCATION:Tapanilan Urheilukeskus / Erätalo\, 
SEQUENCE:0
SUMMARY:Anytime eläkeikäiset: Anytime eläkeikäiset kesäkausi 2026
URL;VALUE=URI:https://tapanilanera.myclub.fi/flow/events/10569745
END:VEVENT
END:VCALENDAR
