BEGIN:VCALENDAR
VERSION:2.0
PRODID:icalendar-ruby
CALSCALE:GREGORIAN
X-WR-TIMEZONE:Europe/Helsinki
BEGIN:VTIMEZONE
TZID:Europe/Helsinki
BEGIN:DAYLIGHT
DTSTART:20260329T040000
TZOFFSETFROM:+0200
TZOFFSETTO:+0300
RRULE:FREQ=YEARLY;BYDAY=-1SU;BYMONTH=3
TZNAME:EEST
END:DAYLIGHT
BEGIN:STANDARD
DTSTART:20261025T030000
TZOFFSETFROM:+0300
TZOFFSETTO:+0200
RRULE:FREQ=YEARLY;BYDAY=-1SU;BYMONTH=10
TZNAME:EET
END:STANDARD
END:VTIMEZONE
BEGIN:VEVENT
DTSTAMP:20260420T153856
UID:tapanilanera.myclub.fi-10378588
DTSTART;TZID=Europe/Helsinki:20260506T170000
DTEND;TZID=Europe/Helsinki:20260506T170000
DESCRIPTION:Perheiden VauhtiSport 2-4-vuotiaat : 6.-27.5.2026 (4 x) keskivi
 ikkoisin klo 17.00-17.45. Ohjajana Henna Ustinov. Hinta 55 euroa + Tapanil
 an Erä ry:n vuoden 2026 jäsenmaksu 14 euroa.\nKoko perheen yhteinen inno
 stava ja vauhdikas liikuntahetki. Tiedossa on hauskat ja monipuoliset liik
 untaleikit\, välinehulinaa\, temppuilua ja palloilua. Liikumme ulkona Hii
 denkiven puistossa. Varaa säänmukaiset varusteet ja juomapullo.\nHuom! K
 ovan sateen sattuessa liikumme sisätiloissa. Tästä ilmoitamme sähköpo
 stitse tai puhelimitse.\nOsallistujia ei ole vakuutettu Tapanilan Erä ry:
 n puolesta.\n\nhttps://tapanilanera.myclub.fi/flow/events/10378588
LOCATION:Hiidenkiven puisto\, 00730 Helsinki
SEQUENCE:0
SUMMARY:Perhe- ja taaperoliikunta: Ke klo 17.00-17.45 Perheiden VauhtiSport
  2-4 v. / Henna Ustinov
URL;VALUE=URI:https://tapanilanera.myclub.fi/flow/events/10378588
END:VEVENT
END:VCALENDAR
