BEGIN:VCALENDAR
VERSION:2.0
PRODID:icalendar-ruby
CALSCALE:GREGORIAN
X-WR-TIMEZONE:Europe/Helsinki
BEGIN:VTIMEZONE
TZID:Europe/Helsinki
BEGIN:DAYLIGHT
DTSTART:20260329T040000
TZOFFSETFROM:+0200
TZOFFSETTO:+0300
RRULE:FREQ=YEARLY;BYDAY=-1SU;BYMONTH=3
TZNAME:EEST
END:DAYLIGHT
BEGIN:STANDARD
DTSTART:20261025T030000
TZOFFSETFROM:+0300
TZOFFSETTO:+0200
RRULE:FREQ=YEARLY;BYDAY=-1SU;BYMONTH=10
TZNAME:EET
END:STANDARD
END:VTIMEZONE
BEGIN:VEVENT
DTSTAMP:20260420T153930
UID:tapanilanera.myclub.fi-10378562
DTSTART;TZID=Europe/Helsinki:20260507T170000
DTEND;TZID=Europe/Helsinki:20260507T170000
DESCRIPTION:Temppusankarit 7.5.-4.6.2026 (4 x) torstaisin klo 17-18 (ei tun
 tia 14.5.). Ohjaajana Henna Ustinov. Hinta 50 euroa + Tapanilan Erä ry:n 
 vuoden 2026 jäsenmaksu 14 euroa.\nTemppusankarit -tunneilla liikutaan mon
 ipuolisesti leikkien ja kehitetään motorisia perustaitoja erilaisten har
 joitteiden avulla. Ohjelmassa on muun muassa palloilua\, yleisurheilua\, l
 iikuntaleikkejä ja välinejumppaa. Tunnit järjestetään ulkona Hiidenki
 ven puistossa ja lähialueella. Varaa mukaan juomapullo ja säähän sopiv
 a varustus. Temppusankarit liikkuvat ilman vanhempia. \nTunti on suunnitel
 tu niin\, että vanhemmilla on mahdollisuus osallistua aikuisten tunneille
  samaan aikaan (katso aikuisten ryhmäliikunnan tarjonta).\nKokoontuminen 
 kirjaston edessä klo 16.55 ja palaamme kirjastolle klo 18.\nOhjattu toimi
 nta kestää noin. 45min ja siirtymisiin ja vapaampaan liikkeeseen varaamm
 e lopun ajan.\nHuom! Kovan sateen sattuessa liikumme sisällä. Tästä il
 moitamme sähköpostitse tai puhelimitse.\n\nOsallistujia ei ole vakuutett
 u Tapanilan Erä ry:n puolesta.\n\nhttps://tapanilanera.myclub.fi/flow/eve
 nts/10378562
LOCATION:Hiidenkiven puisto\, 00730 Helsinki
SEQUENCE:0
SUMMARY:Tempputunnit: To klo 17-18 Temppusankarit 4-6 v. / Henna Ustinov
URL;VALUE=URI:https://tapanilanera.myclub.fi/flow/events/10378562
END:VEVENT
END:VCALENDAR
