BEGIN:VCALENDAR
VERSION:2.0
PRODID:icalendar-ruby
CALSCALE:GREGORIAN
X-WR-TIMEZONE:Europe/Helsinki
BEGIN:VTIMEZONE
TZID:Europe/Helsinki
BEGIN:DAYLIGHT
DTSTART:20260329T040000
TZOFFSETFROM:+0200
TZOFFSETTO:+0300
RRULE:FREQ=YEARLY;BYDAY=-1SU;BYMONTH=3
TZNAME:EEST
END:DAYLIGHT
BEGIN:STANDARD
DTSTART:20261025T030000
TZOFFSETFROM:+0300
TZOFFSETTO:+0200
RRULE:FREQ=YEARLY;BYDAY=-1SU;BYMONTH=10
TZNAME:EET
END:STANDARD
END:VTIMEZONE
BEGIN:VEVENT
DTSTAMP:20260421T145112
UID:tapanilanera.myclub.fi-10377805
DTSTART;TZID=Europe/Helsinki:20260615T090000
DTEND;TZID=Europe/Helsinki:20260618T150000
DESCRIPTION:SPORTTILEIRI 7-10 -vuotiaille maanantaista-torstaihin klo 9.00-
 15.00. Leirin hinta 128 € + Tapanilan Erä ry:n vuoden 2026 jäsenmaksu 
 14 euroa.\nJokaisena leiripäivänä pääset tutustumaan vähintään yht
 een uuteen lajiin. Luvassa mm. monipuolista liikuntaa ulkona ja sisällä\
 , palloilua sekä hauskoja lajikokeiluita ja mukavaa yhdessäoloa. Huomioi
 than\, että leiriviikkojen ohjelmat vaihtelevat.  Tarkempi ohjelma sekä 
 infopaketti lähetetään osallistujille toukokuun loppupuolella sähköpo
 stitse.\n \nLeiri järjestetään päivittäin 9.00-15.00 välisenä aikan
 a. Leirille voi saapua klo 9.00 tai klo 10 ja leirillä voi viettää aika
 a klo 15.00 saakka. Aamun ensimmäinen ja iltapäivän viimeinen tunti on 
 vapaata oleskelua\, kavereiden kanssa leikkimistä\, pelailua\, piirtämis
 tä yms. ohjaajien läsnä ollessa. Varsinainen toiminta on klo 10.00-14.0
 0 välisenä aikana.\nLeirihintaan kuuluu lajikokeilut\, lämmin lounas ja
  leiripaita. Ilmoittautuessa ilmoita ruoka-aine rajoitteet kohtaan: Ruoka-
 aine allergiat. Ilmoita myös paidan koko lisätietoja-kohdassa.\nMukaan t
 arvitset päivän mukaisen liikuntavarustuksen ja juomapullon.\nSitovat il
 moittautumiset viimeistään perjantaina 29.5.2026.\n\nhttps://tapanilaner
 a.myclub.fi/flow/events/10377805
LOCATION:Tapanilan Urheilukeskus\, Erätie 3\, 00730 Helsinki
SEQUENCE:0
SUMMARY:Lasten leirit: Sporttileiri 5  (7-10 v.)  15.-18.6.2026
URL;VALUE=URI:https://tapanilanera.myclub.fi/flow/events/10377805
END:VEVENT
END:VCALENDAR
