BEGIN:VCALENDAR
VERSION:2.0
PRODID:icalendar-ruby
CALSCALE:GREGORIAN
X-WR-TIMEZONE:Europe/Helsinki
BEGIN:VTIMEZONE
TZID:Europe/Helsinki
BEGIN:DAYLIGHT
DTSTART:20260329T040000
TZOFFSETFROM:+0200
TZOFFSETTO:+0300
RRULE:FREQ=YEARLY;BYDAY=-1SU;BYMONTH=3
TZNAME:EEST
END:DAYLIGHT
BEGIN:STANDARD
DTSTART:20261025T030000
TZOFFSETFROM:+0300
TZOFFSETTO:+0200
RRULE:FREQ=YEARLY;BYDAY=-1SU;BYMONTH=10
TZNAME:EET
END:STANDARD
END:VTIMEZONE
BEGIN:VEVENT
DTSTAMP:20260421T144907
UID:tapanilanera.myclub.fi-10377732
DTSTART;TZID=Europe/Helsinki:20260608T090000
DTEND;TZID=Europe/Helsinki:20260612T150000
DESCRIPTION:KAMPPAILU- JA LIIKUNTALEIRI 7-10 -vuotiaille maanantaista-perja
 ntaihin klo 9.00-15.00. Leirin hinta 158 € + Tapanilan Erä ry:n vuoden 
 2026 jäsenmaksu 14 euroa.\nKamppailu- ja liikuntaleirillä pääset tutus
 tumaan kamppailulajeihin sekä monipuolisesti erilaisiin perusliikuntalaje
 ihin ulkona ja sisällä. Tarkempi ohjelma sekä infopaketti lähetetään
  osallistujille toukokuun loppupuolella sähköpostitse. Mukana on mm. jud
 oa\, miekkailua ja nyrkkeilyä.\n \nLeiri järjestetään päivittäin 9.0
 0-15.00 välisenä aikana. Leirille voi saapua klo 9.00 tai klo 10.00 ja l
 eirillä voi viettää aikaa klo 15.00 saakka. Aamun ensimmäinen ja iltap
 äivän viimeinen tunti on vapaata oleskelua\, kavereiden kanssa leikkimis
 tä\, pelailua\, piirtämistä yms. ohjaajien läsnä ollessa. Varsinainen
  toiminta on klo 10.00-14.00 välisenä aikana.\nLeirihintaan kuuluu kaikk
 i lajikokeilut\, lämmin lounas ja leiripaita. Ilmoittautuessa ilmoita ruo
 ka-aine rajoitteet kohtaan: Ruoka-aine allergiat. Ilmoita myös paidan kok
 o lisätietoja-kohdassa.\nMukaan tarvitset päivän mukaisen liikuntavarus
 tuksen ja juomapullon.\nSitovat ilmoittautumiset viimeistään perjantaina
  22.5.2026.\n\nhttps://tapanilanera.myclub.fi/flow/events/10377732
LOCATION:Tapanilan Urheilukeskus\, Erätie 3\, 00730 Helsinki
SEQUENCE:0
SUMMARY:Lasten leirit: Kamppailu- ja liikuntaleiri (7-10 v.)  8.-12.6.2026
URL;VALUE=URI:https://tapanilanera.myclub.fi/flow/events/10377732
END:VEVENT
END:VCALENDAR
