BEGIN:VCALENDAR
VERSION:2.0
PRODID:icalendar-ruby
CALSCALE:GREGORIAN
X-WR-TIMEZONE:Europe/Helsinki
BEGIN:VTIMEZONE
TZID:Europe/Helsinki
BEGIN:DAYLIGHT
DTSTART:20260329T040000
TZOFFSETFROM:+0200
TZOFFSETTO:+0300
RRULE:FREQ=YEARLY;BYDAY=-1SU;BYMONTH=3
TZNAME:EEST
END:DAYLIGHT
BEGIN:STANDARD
DTSTART:20261025T030000
TZOFFSETFROM:+0300
TZOFFSETTO:+0200
RRULE:FREQ=YEARLY;BYDAY=-1SU;BYMONTH=10
TZNAME:EET
END:STANDARD
END:VTIMEZONE
BEGIN:VEVENT
DTSTAMP:20260421T144948
UID:tapanilanera.myclub.fi-10377718
DTSTART;TZID=Europe/Helsinki:20260608T090000
DTEND;TZID=Europe/Helsinki:20260612T150000
DESCRIPTION:SPORTTILEIRI 9-11 -vuotiaille maanantaista-perjantaihin klo 9.0
 0-15.00. Leirin hinta 158 € + Tapanilan Erä ry:n vuoden 2026 jäsenmaks
 u 14 euroa.\nJokaisena leiripäivänä pääset tutustumaan vähintään y
 hteen uuteen lajiin. Luvassa mm. monipuolista liikuntaa ulkona ja sisäll
 ä\, palloilua sekä hauskoja lajikokeiluita ja mukavaa yhdessäoloa. Huom
 ioithan\, että leiriviikkojen ohjelmat vaihtelevat.  Tarkempi ohjelma sek
 ä infopaketti lähetetään osallistujille toukokuun loppupuolella sähk
 öpostitse.\n \nLeiri järjestetään päivittäin 9.00-15.00 välisenä a
 ikana. Leirille voi saapua klo 9.00 tai klo 10 ja leirillä voi viettää 
 aikaa klo 15.00 saakka. Aamun ensimmäinen ja iltapäivän viimeinen tunti
  on vapaata oleskelua\, kavereiden kanssa leikkimistä\, pelailua\, piirt
 ämistä yms. ohjaajien läsnä ollessa. Varsinainen toiminta on klo 10.00
 -14.00 välisenä aikana.\nLeirihintaan kuuluu lajikokeilut\, lämmin loun
 as ja leiripaita. Ilmoittautuessa ilmoita ruoka-aine rajoitteet kohtaan: R
 uoka-aine allergiat. Ilmoita myös paidan koko lisätietoja-kohdassa.\nMuk
 aan tarvitset päivän mukaisen liikuntavarustuksen ja juomapullon.\nSitov
 at ilmoittautumiset viimeistään perjantaina 22.5.2026.\n\nhttps://tapani
 lanera.myclub.fi/flow/events/10377718
LOCATION:Tapanilan Urheilukeskus\, Erätie 3\, 00730 Helsinki
SEQUENCE:0
SUMMARY:Lasten leirit: Sporttileiri 4  (9-11 v.)  8.-12.6.2026
URL;VALUE=URI:https://tapanilanera.myclub.fi/flow/events/10377718
END:VEVENT
END:VCALENDAR
