BEGIN:VCALENDAR
VERSION:2.0
PRODID:icalendar-ruby
CALSCALE:GREGORIAN
X-WR-TIMEZONE:Europe/Helsinki
BEGIN:VTIMEZONE
TZID:Europe/Helsinki
BEGIN:DAYLIGHT
DTSTART:20260329T040000
TZOFFSETFROM:+0200
TZOFFSETTO:+0300
RRULE:FREQ=YEARLY;BYDAY=-1SU;BYMONTH=3
TZNAME:EEST
END:DAYLIGHT
BEGIN:STANDARD
DTSTART:20261025T030000
TZOFFSETFROM:+0300
TZOFFSETTO:+0200
RRULE:FREQ=YEARLY;BYDAY=-1SU;BYMONTH=10
TZNAME:EET
END:STANDARD
END:VTIMEZONE
BEGIN:VEVENT
DTSTAMP:20260421T144907
UID:tapanilanera.myclub.fi-10377683
DTSTART;TZID=Europe/Helsinki:20260601T090000
DTEND;TZID=Europe/Helsinki:20260605T150000
DESCRIPTION:DANCE AND MOVE\nDance and Move 8-11 -vuotiaille.  maanantaista-
 perjantaihin klo 9.00-15.00.\nLeirin hinta 158 € + Tapanilan Erä ry:n v
 uoden 2026 jäsenmaksu 14 euroa.\n \nTervetuloa viettämään kesän hausk
 in lomaviikko Dance and Move-leirille! Leirillä tutustutaan erilasiin tan
 ssityyleihin helppojen liikkeiden ja koreografioiden kautta. Lisäksi leir
 illä ulkoillaan ja liikutaan päivittäin lähimaastossa\, nautitaan kes
 älomasta ja yhdessäolosta. Aikaisempaa kokemusta lajeista et tarvitse\, 
 halu liikkua ja oppia kannustavassa ympäristössä riittää. Tule nautti
 maan tanssin ja liikunnan tuomasta ilosta! Leiriohjelma lähetetään säh
 köpostitse toukokuun loppupuolella osallistujille.\nLeiri järjestetään
  päivittäin 9.00-15.00 välisenä aikana. Leirille voi saapua klo 9.00 t
 ai klo 10.00 ja leirillä voi viettää aikaa klo 15.00 saakka. Aamun ensi
 mmäinen ja iltapäivän viimeinen tunti on vapaata oleskelua\, kavereiden
  kanssa leikkimistä\, pelailua\, piirtämistä yms. ohjaajien läsnä oll
 essa. Varsinainen toiminta on klo 10.00-14.00 välisenä aikana.\nLeirihin
 taan kuuluu kaikki lajikokeilut\, lämmin lounas ja leiripaita. Ilmoittaut
 uessa ilmoita ruoka-aine rajoitteet kohtaan: Ruoka-aine allergiat. Ilmoita
  myös paidan koko lisätietoja-kohdassa.\nMukaan tarvitset päivän mukai
 sen liikuntavarustuksen ja juomapullon.\nSitovat ilmoittautumiset viimeist
 ään perjantaina 22.5.2026.\n\nhttps://tapanilanera.myclub.fi/flow/events
 /10377683
LOCATION:Tapanilan Urheilukeskus\, Erätie 3\, 00730 Helsinki
SEQUENCE:0
SUMMARY:Lasten leirit: Dance and Move (8-11 v.)  1.-5.6.2026
URL;VALUE=URI:https://tapanilanera.myclub.fi/flow/events/10377683
END:VEVENT
END:VCALENDAR
