BEGIN:VCALENDAR
VERSION:2.0
PRODID:icalendar-ruby
CALSCALE:GREGORIAN
X-WR-TIMEZONE:Europe/Helsinki
BEGIN:VTIMEZONE
TZID:Europe/Helsinki
BEGIN:DAYLIGHT
DTSTART:20260329T040000
TZOFFSETFROM:+0200
TZOFFSETTO:+0300
RRULE:FREQ=YEARLY;BYDAY=-1SU;BYMONTH=3
TZNAME:EEST
END:DAYLIGHT
BEGIN:STANDARD
DTSTART:20261025T030000
TZOFFSETFROM:+0300
TZOFFSETTO:+0200
RRULE:FREQ=YEARLY;BYDAY=-1SU;BYMONTH=10
TZNAME:EET
END:STANDARD
END:VTIMEZONE
BEGIN:VEVENT
DTSTAMP:20260425T143341
UID:tapanilanera.myclub.fi-10037819
DTSTART;TZID=Europe/Helsinki:20260106T184500
DTEND;TZID=Europe/Helsinki:20260106T184500
DESCRIPTION:Nyrkkeilyakatemiassa harjoittelevat 11-16 -vuotiaat tytöt ja p
 ojat. Harjoituksia on tiistaisin 18.45-20.00 ja torstaisin 16.30-17.45.\nR
 yhmään pääseminen edellyttää vähintään nyrkkeilykoulun käymisen 
 tai kokemusta muusta kamppailulajista. Treeneissä harjoitellaan perusharj
 oitusten lisäksi otteluihin osallistumista. \nRyhmää ohjaa Hilja Hamard
   tiiviissä yhteistyössä  päävalmentaja Jari Johanssonin kanssa. \nL
 ähtökohtaisesti ilmoittautumiset ovat sitovia emmekä hyvitä kausimaksu
 ja kuin erittäin painavasta syystä (esim. sairastuminen tai jos perumine
 n tapahtuu vähintään kaksi viikkoa ennen kauden alkua).\nNyrkkeilyakate
 miassa harjoitteleminen ei velvoita osallistumaan otteluihin\, vaan lajia 
 voi harrastaa myös ilman kilpalisenssiä.\n\nhttps://tapanilanera.myclub.
 fi/flow/events/10037819
LOCATION:Tapanilan Urheilukeskus / Nyrkkeilysali\, Erätie 3\, 00730 Helsin
 ki
SEQUENCE:0
SUMMARY:Nyrkkeily: Nyrkkeilyakatemia Kevät 2026 ti + to
URL;VALUE=URI:https://tapanilanera.myclub.fi/flow/events/10037819
END:VEVENT
END:VCALENDAR
