BEGIN:VCALENDAR
VERSION:2.0
PRODID:icalendar-ruby
CALSCALE:GREGORIAN
X-WR-TIMEZONE:Europe/Helsinki
BEGIN:VTIMEZONE
TZID:Europe/Helsinki
BEGIN:DAYLIGHT
DTSTART:20260329T040000
TZOFFSETFROM:+0200
TZOFFSETTO:+0300
RRULE:FREQ=YEARLY;BYDAY=-1SU;BYMONTH=3
TZNAME:EEST
END:DAYLIGHT
BEGIN:STANDARD
DTSTART:20261025T030000
TZOFFSETFROM:+0300
TZOFFSETTO:+0200
RRULE:FREQ=YEARLY;BYDAY=-1SU;BYMONTH=10
TZNAME:EET
END:STANDARD
END:VTIMEZONE
BEGIN:VEVENT
DTSTAMP:20260425T143903
UID:tapanilanera.myclub.fi-10037803
DTSTART;TZID=Europe/Helsinki:20260105T170000
DTEND;TZID=Europe/Helsinki:20260105T170000
DESCRIPTION:Kilparyhmän treeneihin osallistuminen edellyttää nyrkkeilyn 
 perusasioiden tuntemista ja halua otella kehässä. Kilpanyrkkeilijöiden 
 harjoituksiin kuuluu keskeisenä osana otteluharjoitukset\, jossa harjoite
 llaan iskutuntumassa olemista. Ryhmä harjoittelee yhdessä viisi kertaa v
 iikossa\, ryhmässä edellytetään säännöllistä harjoittelua\, vähin
 tään kolmasti viikossa omalla salilla sekä omatoimista treenausta valme
 ntajan ohjeiden mukaisesti. Harjoittelu edellyttää kilpavakuutuksen ja -
 lisenssin hankkimisen. Kilpanyrkkeilijöiden harjoituksissa käyvät kilpa
 iluihin tähtäävät 15-40 -vuotiaat nyrkkeilijät.\n\nhttps://tapanilane
 ra.myclub.fi/flow/events/10037803
LOCATION:Tapanilan Urheilukeskus / Nyrkkeilysali\, Erätie 3\, 00730 Helsin
 ki
SEQUENCE:0
SUMMARY:Nyrkkeily: Kilpanyrkkeily / Kevät 2026
URL;VALUE=URI:https://tapanilanera.myclub.fi/flow/events/10037803
END:VEVENT
END:VCALENDAR
